BEGIN:VCALENDAR
PRODID:-//dvv-bw.de//dvv.Portalplattform//DE
VERSION:2.0
METHOD:PUBLISH
BEGIN:VEVENT
DTSTART:20260430T160000Z
DTEND:20260430T180000Z
DTSTAMP:20260424T021234Z
UID:2457277598-2457277598-1777500000000
SUMMARY:Walpurgisnacht auf dem Bergeneck
DESCRIPTION:Die Narrenzunft Wilde Christen Wallburg e.V. lädt herzlich ein - Kommt und feiert mit uns die Walpurgisnacht!
CLASS:PUBLIC
X-ALT-DESC;FMTTYPE=text/html:Die Narrenzunft Wilde Christen Wallburg e.V. lädt herzlich ein - Kommt und feiert mit uns die Walpurgisnacht!
END:VEVENT
END:VCALENDAR
